BEGIN:VCALENDAR
VERSION:2.0
PRODID:-//Lietuvos socialdemokratų partija - ECPv6.3.5//NONSGML v1.0//EN
CALSCALE:GREGORIAN
METHOD:PUBLISH
X-ORIGINAL-URL:https://lsdp.inkodus.lt
X-WR-CALDESC:Lietuvos socialdemokratų partija renginiai
REFRESH-INTERVAL;VALUE=DURATION:PT1H
X-Robots-Tag:noindex
X-PUBLISHED-TTL:PT1H
BEGIN:VTIMEZONE
TZID:Europe/Helsinki
BEGIN:DAYLIGHT
TZOFFSETFROM:+0200
TZOFFSETTO:+0300
TZNAME:EEST
DTSTART:20240331T010000
END:DAYLIGHT
BEGIN:STANDARD
TZOFFSETFROM:+0300
TZOFFSETTO:+0200
TZNAME:EET
DTSTART:20241027T010000
END:STANDARD
END:VTIMEZONE
BEGIN:VEVENT
DTSTART;TZID=Europe/Helsinki:20240422T180000
DTEND;TZID=Europe/Helsinki:20240422T200000
DTSTAMP:20260420T121356
CREATED:20240416T123419Z
LAST-MODIFIED:20240420T074652Z
UID:10000080-1713808800-1713816000@lsdp.inkodus.lt
SUMMARY:Diskusija su LSDP kandidatais į EP. Moderatorius: L. Šedvydis
DESCRIPTION:Tęsiame pažintinių renginių su mūsų partijos kandidatais į EP ciklą. Balandžio 22 dieną\, 18 val. LSDP Kauno skyriaus būstinėje (Gedimino g. 33-208) įvyks antroji dr. Lauryno Šedvydžio moderuojama diskusija su: \n\nSeimo nare Orinta Leipute\,\nSeimo nariu Algirdu Sysu\,\nMarijampolės savivaldybės tarybos nariu Tadu Prajara ir\nTadu Vinokur.\n\nKandidatai į EP narius pasidalins savo Europos vizija\, mėgins rasti atsakymą kodėl Lietuvai reikia Europos\, o Europai Lietuvos\, pakalbės apie svarbiausius darbus\, kuriuos\, jų manymu\, būtina atlikti prioriteto tvarka.
URL:https://lsdp.inkodus.lt/renginys/diskusija-su-lsdp-kandidatais-i-ep-moderatorius-l-sedvydis
LOCATION:LSDP Kauno m. sk. būstinė\, Gedimino g. 33\, Kaunas\, Lietuva
END:VEVENT
END:VCALENDAR