BEGIN:VCALENDAR
VERSION:2.0
PRODID:-//Lietuvos socialdemokratų partija - ECPv6.3.5//NONSGML v1.0//EN
CALSCALE:GREGORIAN
METHOD:PUBLISH
X-WR-CALNAME:Lietuvos socialdemokratų partija
X-ORIGINAL-URL:https://lsdp.inkodus.lt
X-WR-CALDESC:Lietuvos socialdemokratų partija renginiai
REFRESH-INTERVAL;VALUE=DURATION:PT1H
X-Robots-Tag:noindex
X-PUBLISHED-TTL:PT1H
BEGIN:VTIMEZONE
TZID:Europe/Helsinki
BEGIN:DAYLIGHT
TZOFFSETFROM:+0200
TZOFFSETTO:+0300
TZNAME:EEST
DTSTART:20240331T010000
END:DAYLIGHT
BEGIN:STANDARD
TZOFFSETFROM:+0300
TZOFFSETTO:+0200
TZNAME:EET
DTSTART:20241027T010000
END:STANDARD
END:VTIMEZONE
BEGIN:VEVENT
DTSTART;TZID=Europe/Helsinki:20240304T130000
DTEND;TZID=Europe/Helsinki:20240304T140000
DTSTAMP:20260420T121134
CREATED:20240416T123234Z
LAST-MODIFIED:20240416T123234Z
UID:10000044-1709557200-1709560800@lsdp.inkodus.lt
SUMMARY:Miesto ūkio ir paslaugų komitetas
DESCRIPTION:
URL:https://lsdp.inkodus.lt/renginys/miesto-ukio-ir-paslaugu-komitetas
END:VEVENT
BEGIN:VEVENT
DTSTART;TZID=Europe/Helsinki:20240304T180000
DTEND;TZID=Europe/Helsinki:20240304T200000
DTSTAMP:20260420T121134
CREATED:20240416T123304Z
LAST-MODIFIED:20240420T074741Z
UID:10000051-1709575200-1709582400@lsdp.inkodus.lt
SUMMARY:LSDP Kauno m. sk. valdybos posėdis
DESCRIPTION:
URL:https://lsdp.inkodus.lt/renginys/lsdp-kauno-m-sk-valdybos-posedis
LOCATION:LSDP Kauno m. sk. būstinė\, Gedimino g. 33\, Kaunas\, Lietuva
END:VEVENT
BEGIN:VEVENT
DTSTART;TZID=Europe/Helsinki:20240305T090000
DTEND;TZID=Europe/Helsinki:20240305T100000
DTSTAMP:20260420T121134
CREATED:20240416T123334Z
LAST-MODIFIED:20240420T074830Z
UID:10000063-1709629200-1709632800@lsdp.inkodus.lt
SUMMARY:Kauno miesto savivaldybės Kontrolės komiteto posėdis
DESCRIPTION:
URL:https://lsdp.inkodus.lt/renginys/kauno-miesto-savivaldybes-kontroles-komiteto-posedis
LOCATION:Kauno miesto savivaldybė\, Laisvės al. 96\, Kaunas\, 44251\, Lietuva
END:VEVENT
BEGIN:VEVENT
DTSTART;TZID=Europe/Helsinki:20240312T090000
DTEND;TZID=Europe/Helsinki:20240312T100000
DTSTAMP:20260420T121134
CREATED:20240416T123234Z
LAST-MODIFIED:20240420T080525Z
UID:10000043-1710234000-1710237600@lsdp.inkodus.lt
SUMMARY:Kauno miesto savivaldybės tarybos posėdis
DESCRIPTION:
URL:https://lsdp.inkodus.lt/renginys/kauno-miesto-savivaldybes-tarybos-posedis-2
LOCATION:Kauno miesto savivaldybė\, Laisvės al. 96\, Kaunas\, 44251\, Lietuva
END:VEVENT
BEGIN:VEVENT
DTSTART;TZID=Europe/Helsinki:20240313T150000
DTEND;TZID=Europe/Helsinki:20240313T173000
DTSTAMP:20260420T121134
CREATED:20240416T123349Z
LAST-MODIFIED:20240420T080558Z
UID:10000070-1710342000-1710351000@lsdp.inkodus.lt
SUMMARY:LSDP Kauno m. sk. tarybos posėdis
DESCRIPTION:
URL:https://lsdp.inkodus.lt/renginys/lsdp-kauno-m-sk-tarybos-posedis
LOCATION:LSDP Kauno m. sk. būstinė\, Gedimino g. 33\, Kaunas\, Lietuva
END:VEVENT
BEGIN:VEVENT
DTSTART;TZID=Europe/Helsinki:20240313T180000
DTEND;TZID=Europe/Helsinki:20240313T200000
DTSTAMP:20260420T121134
CREATED:20240416T123249Z
LAST-MODIFIED:20240420T081124Z
UID:10000049-1710352800-1710360000@lsdp.inkodus.lt
SUMMARY:LSDP Kauno m. sk. Švietimo ir kultūros komiteto posėdis
DESCRIPTION:
URL:https://lsdp.inkodus.lt/renginys/lsdp-kauno-m-sk-svietimo-ir-kulturos-komiteto-posedis
LOCATION:LSDP Kauno m. sk. būstinė\, Gedimino g. 33\, Kaunas\, Lietuva
END:VEVENT
BEGIN:VEVENT
DTSTART;TZID=Europe/Helsinki:20240318T180000
DTEND;TZID=Europe/Helsinki:20240318T200000
DTSTAMP:20260420T121134
CREATED:20240416T123404Z
LAST-MODIFIED:20240420T081511Z
UID:10000075-1710784800-1710792000@lsdp.inkodus.lt
SUMMARY:LSDP centrinio rinkiminio štabo posėdis
DESCRIPTION:
URL:https://lsdp.inkodus.lt/renginys/lsdp-centrinio-rinkiminio-stabo-posedis
END:VEVENT
BEGIN:VEVENT
DTSTART;TZID=Europe/Helsinki:20240322T000000
DTEND;TZID=Europe/Helsinki:20240325T000000
DTSTAMP:20260420T121134
CREATED:20240416T123404Z
LAST-MODIFIED:20240420T082329Z
UID:10000071-1711065600-1711324800@lsdp.inkodus.lt
SUMMARY:Kauno socialdemokratų Kaziukas Žalgirio arenoje
DESCRIPTION:
URL:https://lsdp.inkodus.lt/renginys/kauno-socialdemokratu-kaziukas-zalgirio-arenoje
END:VEVENT
BEGIN:VEVENT
DTSTART;TZID=Europe/Helsinki:20240322T140000
DTEND;TZID=Europe/Helsinki:20240322T143000
DTSTAMP:20260420T121134
CREATED:20240416T123319Z
LAST-MODIFIED:20240420T082304Z
UID:10000059-1711116000-1711117800@lsdp.inkodus.lt
SUMMARY:LSDP skyrių pirmininkų pasitarimas Birštone
DESCRIPTION:
URL:https://lsdp.inkodus.lt/renginys/lsdp-skyriu-pirmininku-pasitarimas-birstone
END:VEVENT
BEGIN:VEVENT
DTSTART;TZID=Europe/Helsinki:20240327T180000
DTEND;TZID=Europe/Helsinki:20240327T200000
DTSTAMP:20260420T121134
CREATED:20240416T123434Z
LAST-MODIFIED:20240420T082237Z
UID:10000082-1711562400-1711569600@lsdp.inkodus.lt
SUMMARY:Kauno m. sk. Petrašiūnų grupės ataskaitinis susirinkimas
DESCRIPTION:
URL:https://lsdp.inkodus.lt/renginys/kauno-m-sk-petrasiunu-grupes-ataskaitinis-susirinkimas
END:VEVENT
BEGIN:VEVENT
DTSTART;TZID=Europe/Helsinki:20240328T110000
DTEND;TZID=Europe/Helsinki:20240328T150000
DTSTAMP:20260420T121134
CREATED:20240416T123419Z
LAST-MODIFIED:20240416T123419Z
UID:10000078-1711623600-1711638000@lsdp.inkodus.lt
SUMMARY:Išvažiuojamasis žemes ūkio komiteto posėdis
DESCRIPTION:
URL:https://lsdp.inkodus.lt/renginys/isvaziuojamasis-zemes-ukio-komiteto-posedis
END:VEVENT
END:VCALENDAR